BEGIN:VCALENDAR
VERSION:2.0
PRODID:-//Tukios.com/
BEGIN:VEVENT
UID:bd54d471-245d-4e54-9afd-a3fe9a0330bf@www.swartfuneralhome.com
DTSTAMP:20260425T004937Z
DTSTART:20260515T210000Z
DTEND:20260515T230000Z
SUMMARY:Memorial Gathering
DESCRIPTION:
URL:https://www.swartfuneralhome.com/obituaries/jennifer-smith
LOCATION:Swart Funeral Home 207 E. Central Ave  West Carrollton OH 45449
GEO:39.6730187;-84.2503017
END:VEVENT
END:VCALENDAR